BEGIN:VCALENDAR
VERSION:2.0
PRODID:-//Tukios.com/
BEGIN:VEVENT
UID:4298d095-f43c-422c-8458-b61a43e39175@obits.lambertfuneralhome.com
DTSTAMP:20260420T165517Z
DTSTART:20260502T140000Z
DTEND:20260502T160000Z
SUMMARY:Visitation
DESCRIPTION:
URL:https://obits.lambertfuneralhome.com/a-dutton
LOCATION: 1799 Elm Street  Manchester NH 03104
GEO:43.0048965;-71.4646753
END:VEVENT
END:VCALENDAR