BEGIN:VCALENDAR
VERSION:2.0
PRODID:-//Tukios.com/
BEGIN:VEVENT
UID:b8d3f16c-caae-41a8-8c55-17115e68ea09@obits.lambertfuneralhome.com
DTSTAMP:20260420T165518Z
DTSTART:20260502T160000Z
DTEND:20260502T170000Z
SUMMARY:Celebration of Life
DESCRIPTION:
URL:https://obits.lambertfuneralhome.com/a-dutton
LOCATION: 1799 Elm Street  Manchester NH 03104
GEO:43.0048965;-71.4646753
END:VEVENT
END:VCALENDAR