BEGIN:VCALENDAR
VERSION:2.0
PRODID:-//Tukios.com/
BEGIN:VEVENT
UID:2a1d7ba8-cd5c-41c8-b3dc-0458ab1547cf@obits.lambertfuneralhome.com
DTSTAMP:20260421T211334Z
DTSTART:20260423T200000Z
DTEND:20260424T000000Z
SUMMARY:Visitation
DESCRIPTION:
URL:https://obits.lambertfuneralhome.com/berthe-lavoie
LOCATION:Lambert Funeral Home & Crematory 1799 Elm Street  Manchester NH 
	03104
GEO:43.0048965;-71.4646753
END:VEVENT
END:VCALENDAR