BEGIN:VCALENDAR
VERSION:2.0
PRODID:-//Tukios.com/
BEGIN:VEVENT
UID:bd9256d3-6c94-4b76-965a-118093a66f5b@obits.lambertfuneralhome.com
DTSTAMP:20260421T211544Z
DTSTART:20260424T140000Z
DTEND:20260424T150000Z
SUMMARY:Mass
DESCRIPTION:
URL:https://obits.lambertfuneralhome.com/berthe-lavoie
LOCATION:Ste. Marie Parish 378 Notre Dame Avenue  Manchester NH 03102
GEO:42.992294;-71.4764365
END:VEVENT
END:VCALENDAR