BEGIN:VCALENDAR
VERSION:2.0
PRODID:-//Tukios.com/
BEGIN:VEVENT
UID:96adca08-a157-4b3c-9e6b-14db8a3392c7@obits.lambertfuneralhome.com
DTSTAMP:20260420T084556Z
DTSTART:20260417T180000Z
DTEND:20260417T200000Z
SUMMARY:Visitation
DESCRIPTION:
URL:https://obits.lambertfuneralhome.com/elliott-hathaway-jr
LOCATION:Lambert Funeral Home & Crematory 1799 Elm Street  Manchester NH 
	03104
GEO:43.0048965;-71.4646753
END:VEVENT
END:VCALENDAR