BEGIN:VCALENDAR
VERSION:2.0
PRODID:-//Tukios.com/
BEGIN:VEVENT
UID:f15569fe-3ebf-41bf-98a0-4a510597510d@obits.lambertfuneralhome.com
DTSTAMP:20260422T201931Z
DTSTART:20260425T140000Z
DTEND:20260425T160000Z
SUMMARY:Visitation
DESCRIPTION:
URL:https://obits.lambertfuneralhome.com/janet-ross
LOCATION:Lambert Funeral Home 1799 Elm Street  Manchester NH 03104
GEO:43.0048965;-71.4646753
END:VEVENT
END:VCALENDAR