BEGIN:VCALENDAR
VERSION:2.0
PRODID:-//Tukios.com/
BEGIN:VEVENT
UID:95d494e1-2570-4e21-84d6-887407292fee@obits.lambertfuneralhome.com
DTSTAMP:20260422T202059Z
DTSTART:20260425T160000Z
DTEND:20260425T170000Z
SUMMARY:Funeral Service
DESCRIPTION:
URL:https://obits.lambertfuneralhome.com/janet-ross
LOCATION:Lambert Funeral Home 1799 Elm Street  Manchester NH 03104
GEO:43.0048965;-71.4646753
END:VEVENT
END:VCALENDAR