BEGIN:VCALENDAR
VERSION:2.0
PRODID:-//Tukios.com/
BEGIN:VEVENT
UID:b074fedc-9759-45f9-859a-b62c22c7166d@obits.lambertfuneralhome.com
DTSTAMP:20260424T155253Z
DTSTART:20260502T140000Z
DTEND:20260502T150000Z
SUMMARY:Mass
DESCRIPTION:
URL:https://obits.lambertfuneralhome.com/marcel-c-lacasse
LOCATION: 172 Belmont St  Manchester NH 03103
GEO:42.977976;-71.445567
END:VEVENT
END:VCALENDAR