BEGIN:VCALENDAR
VERSION:2.0
PRODID:-//Tukios.com/
BEGIN:VEVENT
UID:e00a36a0-1610-4aa7-89d3-760b856bc0fc@obits.lambertfuneralhome.com
DTSTAMP:20260424T154620Z
DTSTART:20260501T210000Z
DTEND:20260502T000000Z
SUMMARY:Visitation
DESCRIPTION:
URL:https://obits.lambertfuneralhome.com/marcel-lacasse
LOCATION: 1799 Elm Street  Manchester NH 03104
GEO:43.0048965;-71.4646753
END:VEVENT
END:VCALENDAR