BEGIN:VCALENDAR
VERSION:2.0
PRODID:-//Tukios.com/
BEGIN:VEVENT
UID:d123fcbd-abe9-4b5b-a285-ca3dc9147e14@obits.lambertfuneralhome.com
DTSTAMP:20260425T001329Z
DTSTART:20260426T200000Z
DTEND:20260426T230000Z
SUMMARY:Visitation
DESCRIPTION:
URL:https://obits.lambertfuneralhome.com/pierrette-grenier
LOCATION: 1799 Elm Street  Manchester NH 03104
GEO:43.0048965;-71.4646753
END:VEVENT
END:VCALENDAR