BEGIN:VCALENDAR
VERSION:2.0
PRODID:-//Tukios.com/
BEGIN:VEVENT
UID:2fefed99-bebf-4427-a945-a36d998cdaf4@obits.lambertfuneralhome.com
DTSTAMP:20260425T001330Z
DTSTART:20260427T140000Z
DTEND:20260427T150000Z
SUMMARY:Mass
DESCRIPTION:
URL:https://obits.lambertfuneralhome.com/pierrette-grenier
LOCATION: 172 Belmont St  Manchester NH 03103
GEO:42.977976;-71.445567
END:VEVENT
END:VCALENDAR