BEGIN:VCALENDAR
VERSION:2.0
PRODID:-//Tukios.com/
BEGIN:VEVENT
UID:be01159d-c85b-4c7c-bb91-b2d71c9aee68@obits.lambertfuneralhome.com
DTSTAMP:20260421T180018Z
DTSTART:20260504T130000Z
DTEND:20260504T134500Z
SUMMARY:Visitation
DESCRIPTION:
URL:https://obits.lambertfuneralhome.com/robert-cloutier
LOCATION:St. Pius X Church 575 Candia Rd  Manchester NH 03109
GEO:42.9828203;-71.417923
END:VEVENT
END:VCALENDAR