BEGIN:VCALENDAR
VERSION:2.0
PRODID:-//Tukios.com/
BEGIN:VEVENT
UID:39b18075-38ca-4071-ad9e-4f80e35bf7ca@obits.lambertfuneralhome.com
DTSTAMP:20260421T175844Z
DTSTART:20260504T140000Z
DTEND:20260504T150000Z
SUMMARY:Funeral Service
DESCRIPTION:
URL:https://obits.lambertfuneralhome.com/robert-cloutier
LOCATION:St. Pius X Church 575 Candia Rd  Manchester NH 03109
GEO:42.9828203;-71.417923
END:VEVENT
END:VCALENDAR