BEGIN:VCALENDAR
VERSION:2.0
PRODID:-//Tukios.com/
BEGIN:VEVENT
UID:67b63826-1b17-4eef-bae9-c735a1720633@obits.lambertfuneralhome.com
DTSTAMP:20260421T180155Z
DTSTART:20260505T163000Z
DTEND:20260505T173000Z
SUMMARY:Graveside Service
DESCRIPTION:
URL:https://obits.lambertfuneralhome.com/robert-cloutier
LOCATION:Calvary Cemetery 378 Main St  Lancaster NH 03584
GEO:44.5025795;-71.5721019
END:VEVENT
END:VCALENDAR