BEGIN:VCALENDAR
VERSION:2.0
PRODID:-//Tukios.com/
BEGIN:VEVENT
UID:fba6975b-08bc-4ff4-93bc-2a655a82958e@obits.lambertfuneralhome.com
DTSTAMP:20260420T085134Z
DTSTART:20260417T140000Z
DTEND:20260417T150000Z
SUMMARY:Mass
DESCRIPTION:Please Meet at Church
URL:https://obits.lambertfuneralhome.com/thomas-baker
LOCATION: 567 Manchester Rd  Auburn NH 03032
GEO:43.0051368;-71.3905173
END:VEVENT
END:VCALENDAR